BEGIN:VCALENDAR
VERSION:2.0
PRODID:-//BMW Riders Tirol - ECPv6.15.20//NONSGML v1.0//EN
CALSCALE:GREGORIAN
METHOD:PUBLISH
X-WR-CALNAME:BMW Riders Tirol
X-ORIGINAL-URL:https://bmw-riders-tirol.at
X-WR-CALDESC:Veranstaltungen für BMW Riders Tirol
REFRESH-INTERVAL;VALUE=DURATION:PT1H
X-Robots-Tag:noindex
X-PUBLISHED-TTL:PT1H
BEGIN:VTIMEZONE
TZID:Europe/Paris
BEGIN:DAYLIGHT
TZOFFSETFROM:+0100
TZOFFSETTO:+0200
TZNAME:CEST
DTSTART:20250330T010000
END:DAYLIGHT
BEGIN:STANDARD
TZOFFSETFROM:+0200
TZOFFSETTO:+0100
TZNAME:CET
DTSTART:20251026T010000
END:STANDARD
BEGIN:DAYLIGHT
TZOFFSETFROM:+0100
TZOFFSETTO:+0200
TZNAME:CEST
DTSTART:20260329T010000
END:DAYLIGHT
BEGIN:STANDARD
TZOFFSETFROM:+0200
TZOFFSETTO:+0100
TZNAME:CET
DTSTART:20261025T010000
END:STANDARD
BEGIN:DAYLIGHT
TZOFFSETFROM:+0100
TZOFFSETTO:+0200
TZNAME:CEST
DTSTART:20270328T010000
END:DAYLIGHT
BEGIN:STANDARD
TZOFFSETFROM:+0200
TZOFFSETTO:+0100
TZNAME:CET
DTSTART:20271031T010000
END:STANDARD
END:VTIMEZONE
BEGIN:VEVENT
DTSTART;VALUE=DATE:20260704
DTEND;VALUE=DATE:20260706
DTSTAMP:20260419T184925
CREATED:20251105T170823Z
LAST-MODIFIED:20251121T155547Z
UID:4002-1783123200-1783295999@bmw-riders-tirol.at
SUMMARY:Dolomiten Tour
DESCRIPTION:
URL:https://bmw-riders-tirol.at/event/dolomiten-tour/
LOCATION:Dolomiten
CATEGORIES:Ausfahrt
ATTACH;FMTTYPE=image/jpeg:https://bmw-riders-tirol.at/wp-content/uploads/2025/11/IMG_2198-scaled.jpg
ORGANIZER;CN="BMW Riders Tirol":MAILTO:office@bmw-riders-tirol.at
END:VEVENT
END:VCALENDAR