BEGIN:VCALENDAR
VERSION:2.0
PRODID:-//BMW Riders Tirol - ECPv6.15.20//NONSGML v1.0//EN
CALSCALE:GREGORIAN
METHOD:PUBLISH
X-WR-CALNAME:BMW Riders Tirol
X-ORIGINAL-URL:https://bmw-riders-tirol.at
X-WR-CALDESC:Veranstaltungen für BMW Riders Tirol
REFRESH-INTERVAL;VALUE=DURATION:PT1H
X-Robots-Tag:noindex
X-PUBLISHED-TTL:PT1H
BEGIN:VTIMEZONE
TZID:Europe/Vienna
BEGIN:DAYLIGHT
TZOFFSETFROM:+0100
TZOFFSETTO:+0200
TZNAME:CEST
DTSTART:20250330T010000
END:DAYLIGHT
BEGIN:STANDARD
TZOFFSETFROM:+0200
TZOFFSETTO:+0100
TZNAME:CET
DTSTART:20251026T010000
END:STANDARD
BEGIN:DAYLIGHT
TZOFFSETFROM:+0100
TZOFFSETTO:+0200
TZNAME:CEST
DTSTART:20260329T010000
END:DAYLIGHT
BEGIN:STANDARD
TZOFFSETFROM:+0200
TZOFFSETTO:+0100
TZNAME:CET
DTSTART:20261025T010000
END:STANDARD
BEGIN:DAYLIGHT
TZOFFSETFROM:+0100
TZOFFSETTO:+0200
TZNAME:CEST
DTSTART:20270328T010000
END:DAYLIGHT
BEGIN:STANDARD
TZOFFSETFROM:+0200
TZOFFSETTO:+0100
TZNAME:CET
DTSTART:20271031T010000
END:STANDARD
END:VTIMEZONE
BEGIN:VEVENT
DTSTART;VALUE=DATE:20260411
DTEND;VALUE=DATE:20260412
DTSTAMP:20260419T185619
CREATED:20251105T163909Z
LAST-MODIFIED:20260109T132600Z
UID:3981-1775865600-1775951999@bmw-riders-tirol.at
SUMMARY:BMW Riders Tirol meet Valle on Tour
DESCRIPTION:Die Veranstaltung des Jahres 2026 für Motorradbegeisterte aus dem Einzugsgebiet Tirol\, Südtirol und Bayern\nDie BMW Riders Tirol haben die einzigste und exklusive öffentliche Veranstaltung 2026 mit dem bekannten Youtube und Social Media Star der Motorradszene Valle on Tour im Programm. Hier gehts um Passion\, Leidenschaft\, Cooles\, Nützliches\, Neuigkeiten\, … \nMehr Details demnächst… die Wartezeit kann hier ein wenig verkürzt werden: https://www.valleontour.com/
URL:https://bmw-riders-tirol.at/event/riders-publikumsveranstaltung/
LOCATION:Gemeindesaal Kundl\, Dr. Franz-Stumpf-Strasse 18\, Kundl\, Tirol\, 6250\, Austria
CATEGORIES:Event
ATTACH;FMTTYPE=image/png:https://bmw-riders-tirol.at/wp-content/uploads/2025/03/BRT_Logo.png
ORGANIZER;CN="BMW Riders Tirol":MAILTO:office@bmw-riders-tirol.at
END:VEVENT
END:VCALENDAR