BEGIN:VCALENDAR
VERSION:2.0
PRODID:-//BMW Riders Tirol - ECPv6.15.20//NONSGML v1.0//EN
CALSCALE:GREGORIAN
METHOD:PUBLISH
X-WR-CALNAME:BMW Riders Tirol
X-ORIGINAL-URL:https://bmw-riders-tirol.at
X-WR-CALDESC:Veranstaltungen für BMW Riders Tirol
REFRESH-INTERVAL;VALUE=DURATION:PT1H
X-Robots-Tag:noindex
X-PUBLISHED-TTL:PT1H
BEGIN:VTIMEZONE
TZID:Europe/Paris
BEGIN:DAYLIGHT
TZOFFSETFROM:+0100
TZOFFSETTO:+0200
TZNAME:CEST
DTSTART:20250330T010000
END:DAYLIGHT
BEGIN:STANDARD
TZOFFSETFROM:+0200
TZOFFSETTO:+0100
TZNAME:CET
DTSTART:20251026T010000
END:STANDARD
BEGIN:DAYLIGHT
TZOFFSETFROM:+0100
TZOFFSETTO:+0200
TZNAME:CEST
DTSTART:20260329T010000
END:DAYLIGHT
BEGIN:STANDARD
TZOFFSETFROM:+0200
TZOFFSETTO:+0100
TZNAME:CET
DTSTART:20261025T010000
END:STANDARD
BEGIN:DAYLIGHT
TZOFFSETFROM:+0100
TZOFFSETTO:+0200
TZNAME:CEST
DTSTART:20270328T010000
END:DAYLIGHT
BEGIN:STANDARD
TZOFFSETFROM:+0200
TZOFFSETTO:+0100
TZNAME:CET
DTSTART:20271031T010000
END:STANDARD
END:VTIMEZONE
BEGIN:VEVENT
DTSTART;VALUE=DATE:20260503
DTEND;VALUE=DATE:20260504
DTSTAMP:20260419T185021
CREATED:20260122T075647Z
LAST-MODIFIED:20260417T093426Z
UID:8095-1777766400-1777852799@bmw-riders-tirol.at
SUMMARY:Neu- und Wiedereinsteiger Road WarmUp
DESCRIPTION:WarmUp-Fahrt in Form einer Eintagestour für Neu- und Wiedereinsteiger mit dem Ziel sich „einzufahren“. Sich ohne Stress und Zeitdruck nach dem Winter erneut auf das eigene Fahrzeug einstellen oder das neue Motorrad kennenlernen wenn man ein neues Fahrzeug hat. \nWir fahren einen ausgewogenen Mix aus Autobahn (kurz)\, Bundesstrassen und Kurven mit Steigung & Gefälle. Innsbruck\, Kanebitten\, Kühtai\, Ochsengarten\, Haiming\, Telfs\, Pfaffenhofen\, Hatting\, Kematen\, Völs\, Innsbruck. Streckenlänge: ~ 140 km \nTreffpunkte: \n\nWattens\, Shell-Tankstelle bei ÖAMTC\, 10:00 Uhr\nInnsbruck\, Eni-Tankstelle vor Auffahrt Autobahn neben DEZ\, 10:15 Uhr\n\nOrganisation: Tibor
URL:https://bmw-riders-tirol.at/event/neu-und-wiedereinsteiger-warmup/
LOCATION:Shell Wattens\, Bahnhofstrasse 55\, Wattens\, Tirol\, 6112\, Austria
CATEGORIES:Ausfahrt
ATTACH;FMTTYPE=image/jpeg:https://bmw-riders-tirol.at/wp-content/uploads/2025/10/jugend2.jpg
ORGANIZER;CN="BMW Riders Tirol":MAILTO:office@bmw-riders-tirol.at
END:VEVENT
END:VCALENDAR