BEGIN:VCALENDAR
VERSION:2.0
PRODID:-//BMW Riders Tirol - ECPv6.15.20//NONSGML v1.0//EN
CALSCALE:GREGORIAN
METHOD:PUBLISH
X-WR-CALNAME:BMW Riders Tirol
X-ORIGINAL-URL:https://bmw-riders-tirol.at
X-WR-CALDESC:Veranstaltungen für BMW Riders Tirol
REFRESH-INTERVAL;VALUE=DURATION:PT1H
X-Robots-Tag:noindex
X-PUBLISHED-TTL:PT1H
BEGIN:VTIMEZONE
TZID:Europe/Paris
BEGIN:DAYLIGHT
TZOFFSETFROM:+0100
TZOFFSETTO:+0200
TZNAME:CEST
DTSTART:20250330T010000
END:DAYLIGHT
BEGIN:STANDARD
TZOFFSETFROM:+0200
TZOFFSETTO:+0100
TZNAME:CET
DTSTART:20251026T010000
END:STANDARD
BEGIN:DAYLIGHT
TZOFFSETFROM:+0100
TZOFFSETTO:+0200
TZNAME:CEST
DTSTART:20260329T010000
END:DAYLIGHT
BEGIN:STANDARD
TZOFFSETFROM:+0200
TZOFFSETTO:+0100
TZNAME:CET
DTSTART:20261025T010000
END:STANDARD
BEGIN:DAYLIGHT
TZOFFSETFROM:+0100
TZOFFSETTO:+0200
TZNAME:CEST
DTSTART:20270328T010000
END:DAYLIGHT
BEGIN:STANDARD
TZOFFSETFROM:+0200
TZOFFSETTO:+0100
TZNAME:CET
DTSTART:20271031T010000
END:STANDARD
END:VTIMEZONE
BEGIN:VEVENT
DTSTART;VALUE=DATE:20260828
DTEND;VALUE=DATE:20260831
DTSTAMP:20260420T004814
CREATED:20251106T150223Z
LAST-MODIFIED:20260122T081142Z
UID:4016-1787875200-1788134399@bmw-riders-tirol.at
SUMMARY:Böhmerwald Tour
DESCRIPTION:Auf ein Bier nach Budweis\nDrei-Tagestour mit insgesamt rund 940 km Strecke \nÜbernachtungen: in Budweis\nSchwierigkeitsgrad: Mittel (längere An- und Rückreise)\nStreckenprofil: Teilweise engere Landstraßen\, viele Waldpassagen aber immer Asphalt! \nOrganisation: Gerhard
URL:https://bmw-riders-tirol.at/event/boehmerwald-tour/
LOCATION:Tirol
CATEGORIES:Clubwoche
ATTACH;FMTTYPE=image/jpeg:https://bmw-riders-tirol.at/wp-content/uploads/2025/11/Boehmerwald.jpg
ORGANIZER;CN="BMW Riders Tirol":MAILTO:office@bmw-riders-tirol.at
END:VEVENT
END:VCALENDAR