BEGIN:VCALENDAR
VERSION:2.0
PRODID:-//BMW Riders Tirol - ECPv6.15.20//NONSGML v1.0//EN
CALSCALE:GREGORIAN
METHOD:PUBLISH
X-ORIGINAL-URL:https://bmw-riders-tirol.at
X-WR-CALDESC:Veranstaltungen für BMW Riders Tirol
REFRESH-INTERVAL;VALUE=DURATION:PT1H
X-Robots-Tag:noindex
X-PUBLISHED-TTL:PT1H
BEGIN:VTIMEZONE
TZID:Europe/Paris
BEGIN:DAYLIGHT
TZOFFSETFROM:+0100
TZOFFSETTO:+0200
TZNAME:CEST
DTSTART:20250330T010000
END:DAYLIGHT
BEGIN:STANDARD
TZOFFSETFROM:+0200
TZOFFSETTO:+0100
TZNAME:CET
DTSTART:20251026T010000
END:STANDARD
BEGIN:DAYLIGHT
TZOFFSETFROM:+0100
TZOFFSETTO:+0200
TZNAME:CEST
DTSTART:20260329T010000
END:DAYLIGHT
BEGIN:STANDARD
TZOFFSETFROM:+0200
TZOFFSETTO:+0100
TZNAME:CET
DTSTART:20261025T010000
END:STANDARD
BEGIN:DAYLIGHT
TZOFFSETFROM:+0100
TZOFFSETTO:+0200
TZNAME:CEST
DTSTART:20270328T010000
END:DAYLIGHT
BEGIN:STANDARD
TZOFFSETFROM:+0200
TZOFFSETTO:+0100
TZNAME:CET
DTSTART:20271031T010000
END:STANDARD
END:VTIMEZONE
BEGIN:VEVENT
DTSTART;VALUE=DATE:20260808
DTEND;VALUE=DATE:20260810
DTSTAMP:20260419T234236
CREATED:20251106T145906Z
LAST-MODIFIED:20251106T145906Z
UID:4013-1786147200-1786319999@bmw-riders-tirol.at
SUMMARY:Neu- und Wiedereinsteiger Tour
DESCRIPTION:
URL:https://bmw-riders-tirol.at/event/neu-und-wiedereinsteiger-tour/
LOCATION:Tirol
CATEGORIES:Ausfahrt
ATTACH;FMTTYPE=image/jpeg:https://bmw-riders-tirol.at/wp-content/uploads/2025/11/Jugend-Wieder.jpg
END:VEVENT
BEGIN:VEVENT
DTSTART;TZID=Europe/Paris:20260827T190000
DTEND;TZID=Europe/Paris:20260827T213000
DTSTAMP:20260419T234236
CREATED:20251026T145849Z
LAST-MODIFIED:20251121T155224Z
UID:2831-1787857200-1787866200@bmw-riders-tirol.at
SUMMARY:Riders Stammtisch - August
DESCRIPTION:
URL:https://bmw-riders-tirol.at/event/riders-stammtisch-6/
LOCATION:Tirol
CATEGORIES:Stammtisch
ATTACH;FMTTYPE=image/png:https://bmw-riders-tirol.at/wp-content/uploads/2025/03/BRT_Logo.png
ORGANIZER;CN="BMW Riders Tirol":MAILTO:office@bmw-riders-tirol.at
END:VEVENT
BEGIN:VEVENT
DTSTART;VALUE=DATE:20260828
DTEND;VALUE=DATE:20260831
DTSTAMP:20260419T234236
CREATED:20251106T150223Z
LAST-MODIFIED:20260122T081142Z
UID:4016-1787875200-1788134399@bmw-riders-tirol.at
SUMMARY:Böhmerwald Tour
DESCRIPTION:Auf ein Bier nach Budweis\nDrei-Tagestour mit insgesamt rund 940 km Strecke \nÜbernachtungen: in Budweis\nSchwierigkeitsgrad: Mittel (längere An- und Rückreise)\nStreckenprofil: Teilweise engere Landstraßen\, viele Waldpassagen aber immer Asphalt! \nOrganisation: Gerhard
URL:https://bmw-riders-tirol.at/event/boehmerwald-tour/
LOCATION:Tirol
CATEGORIES:Clubwoche
ATTACH;FMTTYPE=image/jpeg:https://bmw-riders-tirol.at/wp-content/uploads/2025/11/Boehmerwald.jpg
ORGANIZER;CN="BMW Riders Tirol":MAILTO:office@bmw-riders-tirol.at
END:VEVENT
END:VCALENDAR